BEGIN:VCALENDAR
VERSION:2.0
CALSCALE:GREGORIAN
PRODID:adamgibbons/ics
METHOD:PUBLISH
X-PUBLISHED-TTL:PT1H
BEGIN:VEVENT
UID:e4f4701a-7164-45ea-8307-117729714a51
SUMMARY:Big\, Open & Beautiful # 1
DTSTAMP:20260421T084542Z
DTSTART:20130130T190000Z
DTEND:20130130T210000Z
URL:https://waag.org/en/event/big-open-beautiful-1
LOCATION:Pakhuis de Zwijger\, Piet Heinkade 179\, 1019 HC Amsterdam
CATEGORIES:data visualisation,infographic,big data,open data
CREATED:20121212T105300Z
LAST-MODIFIED:20190406T112200Z
END:VEVENT
END:VCALENDAR
