BEGIN:VCALENDAR
VERSION:2.0
CALSCALE:GREGORIAN
PRODID:adamgibbons/ics
METHOD:PUBLISH
X-PUBLISHED-TTL:PT1H
BEGIN:VEVENT
UID:f2edce28-871c-4a9f-a0c9-370f3180f27c
SUMMARY:Workshop game-making for teachers
DTSTAMP:20260420T015330Z
DTSTART:20221108T150000Z
DTEND:20221108T163000Z
URL:https://waag.org/en/event/workshop-game-making-teachers
LOCATION:OBA Oosterdok
CATEGORIES:
CREATED:20220922T152600Z
LAST-MODIFIED:20221019T152500Z
END:VEVENT
END:VCALENDAR
