BEGIN:VCALENDAR
VERSION:2.0
CALSCALE:GREGORIAN
PRODID:adamgibbons/ics
METHOD:PUBLISH
X-PUBLISHED-TTL:PT1H
BEGIN:VEVENT
UID:f8487f42-b760-4f2d-a6de-62f819152ef5
SUMMARY:Open source hardware: from black box to open box
DTSTAMP:20260421T144229Z
DTSTART:20220909T150000Z
DTEND:20220909T180000Z
URL:https://waag.org/en/event/open-source-hardware-black-box-open-box
LOCATION:Waag
CATEGORIES:open-source,open design
CREATED:20220804T134400Z
LAST-MODIFIED:20220901T125400Z
END:VEVENT
END:VCALENDAR
