BEGIN:VCALENDAR
VERSION:2.0
CALSCALE:GREGORIAN
PRODID:adamgibbons/ics
METHOD:PUBLISH
X-PUBLISHED-TTL:PT1H
BEGIN:VEVENT
UID:f855acb6-d197-4c89-adc7-06381cf226f4
SUMMARY:FabSchool: aan de slag met digitale fabricage!
DTSTAMP:20260420T014230Z
DTSTART:20180629T130000Z
DTEND:20180629T150000Z
URL:https://waag.org/nl/event/fabschool-aan-de-slag-met-digitale-fabricage
LOCATION:Maakplaats 021\, OBA Reigersbos\, Slotermeer & Waterlandplein 
CATEGORIES:maker education
CREATED:20180604T074600Z
LAST-MODIFIED:20180621T171400Z
END:VEVENT
END:VCALENDAR
