BEGIN:VCALENDAR
VERSION:2.0
CALSCALE:GREGORIAN
PRODID:adamgibbons/ics
METHOD:PUBLISH
X-PUBLISHED-TTL:PT1H
BEGIN:VEVENT
UID:fc5bd27f-8477-4e29-8712-8afcfd9f126d
SUMMARY:Viering twee jaar Maakplaats 021 in Amsterdam
DTSTAMP:20260420T013913Z
DTSTART:20190506T150000Z
DTEND:20190506T170000Z
URL:https://waag.org/nl/event/viering-twee-jaar-maakplaats-021-amsterdam
LOCATION:Pakhuis de Zwijger\, Piet Heinkade 179\, Amsterdam
CATEGORIES:maker education,learning by making
CREATED:20190326T105900Z
LAST-MODIFIED:20260113T093800Z
END:VEVENT
END:VCALENDAR
